BEGIN:VCALENDAR
VERSION:2.0
PRODID:-//wp-events-plugin.com//7.2.3.1//EN
TZID:Europe/Zurich
X-WR-TIMEZONE:Europe/Zurich
BEGIN:VEVENT
UID:13@qba.ch
DTSTART;TZID=Europe/Zurich:20221022T201500
DTEND;TZID=Europe/Zurich:20221022T221500
DTSTAMP:20220807T130649Z
URL:https://www.qba.ch/reservation/biasotto-bigband-2022/
SUMMARY:Thomas Biasotto Bigband
DESCRIPTION:Bigband Swing\n\nSamstag\, 22. Oktober 2022\, 20.15 Uhr\nEintri
 tt: Fr. 40.– \, Schüler/Studenten Fr. 20.-\n\n\n\nReservation von Eintr
 ittskarten:\n\nIhre Reservation wird von uns umgehend bestätigt.\nDie Kar
 ten bleiben bis 10 Minuten vor Konzertbeginn an der Abendkasse reserviert.
 \nReservationen per Internet sind bis 24 Stunden vor dem Anlass möglich.\
 n\nAuch telefonische Reservation ist möglich: 079 279 12 33\, Susanne Por
 tmann
LOCATION:qba Kultur + Begegnung\, Oberwil-Lieli\, Aula\, Schulanlage Falter
 \, Schulhausstrasse 94\, 8966 Oberwil-Lieli\, Schweiz
X-APPLE-STRUCTURED-LOCATION;VALUE=URI;X-ADDRESS=Aula\, Schulanlage Falter\,
  Schulhausstrasse 94\, 8966 Oberwil-Lieli\, Schweiz;X-APPLE-RADIUS=100;X-T
 ITLE=qba Kultur + Begegnung\, Oberwil-Lieli:geo:0,0
END:VEVENT
BEGIN:VTIMEZONE
TZID:Europe/Zurich
X-LIC-LOCATION:Europe/Zurich
BEGIN:DAYLIGHT
DTSTART:20220327T030000
TZOFFSETFROM:+0100
TZOFFSETTO:+0200
TZNAME:CEST
END:DAYLIGHT
END:VTIMEZONE
END:VCALENDAR