BEGIN:VCALENDAR
VERSION:2.0
PRODID:-//wp-events-plugin.com//7.2.3.1//EN
TZID:Europe/Zurich
X-WR-TIMEZONE:Europe/Zurich
BEGIN:VEVENT
UID:25@qba.ch
DTSTART;TZID=Europe/Zurich:20240302T201500
DTEND;TZID=Europe/Zurich:20240302T221500
DTSTAMP:20231208T095637Z
URL:https://www.qba.ch/reservation/caroline-chevin-2024/
SUMMARY:Caroline Chevin Trio
DESCRIPTION:Pop\n\nSamstag\, 2. März 2024\, 20.15 Uhr\nEintritt: Fr. 40.
 – \, Schüler/Studenten Fr. 20.-\n\nReservation von Eintrittskarten:\n\n
 Ihre Reservation wird von uns umgehend bestätigt.\nDie Karten bleiben bis
  10 Minuten vor Konzertbeginn an der Abendkasse reserviert.\nReservationen
  per Internet sind bis 24 Stunden vor dem Anlass möglich.\n\nAuch telefon
 ische Reservation ist möglich: 079 279 12 33\, Susanne Portmann
ATTACH;FMTTYPE=image/jpeg:https://www.qba.ch/wp-content/uploads/2023/07/CC
 2022_MEDIA_HOCH2.jpg
LOCATION:qba Kultur + Begegnung\, Oberwil-Lieli\, Aula\, Schulanlage Falter
 \, Schulhausstrasse 94\, 8966 Oberwil-Lieli\, Schweiz
X-APPLE-STRUCTURED-LOCATION;VALUE=URI;X-ADDRESS=Aula\, Schulanlage Falter\,
  Schulhausstrasse 94\, 8966 Oberwil-Lieli\, Schweiz;X-APPLE-RADIUS=100;X-T
 ITLE=qba Kultur + Begegnung\, Oberwil-Lieli:geo:0,0
END:VEVENT
BEGIN:VTIMEZONE
TZID:Europe/Zurich
X-LIC-LOCATION:Europe/Zurich
BEGIN:STANDARD
DTSTART:20231029T020000
TZOFFSETFROM:+0200
TZOFFSETTO:+0100
TZNAME:CET
END:STANDARD
END:VTIMEZONE
END:VCALENDAR