BEGIN:VCALENDAR
VERSION:2.0
PRODID:-//wp-events-plugin.com//7.2.3.1//EN
TZID:Europe/Zurich
X-WR-TIMEZONE:Europe/Zurich
BEGIN:VEVENT
UID:32@qba.ch
DTSTART;TZID=Europe/Zurich:20241020T103000
DTEND;TZID=Europe/Zurich:20241020T114500
DTSTAMP:20240714T071225Z
URL:https://www.qba.ch/reservation/christine-brand-2024/
SUMMARY:Christine Brand
DESCRIPTION:Matinee / Lesung\n\nSonntag\, 20. Oktober 2024\, 10:30 Uhr\nEin
 tritt frei\, Kollekte\n\nReservation von Eintrittskarten:\n\nIhre Reservat
 ion wird von uns umgehend bestätigt.\nReservationen per Internet sind bis
  24 Stunden vor dem Anlass möglich.\n\nAuch telefonische Reservation ist 
 möglich: 079 279 12 33\, Susanne Portmann
ATTACH;FMTTYPE=image/jpeg:https://www.qba.ch/wp-content/uploads/2024/06/P1
 400398.jpg
LOCATION:qba Kultur + Begegnung\, Oberwil-Lieli\, Aula\, Schulanlage Falter
 \, Schulhausstrasse 94\, 8966 Oberwil-Lieli\, Schweiz
X-APPLE-STRUCTURED-LOCATION;VALUE=URI;X-ADDRESS=Aula\, Schulanlage Falter\,
  Schulhausstrasse 94\, 8966 Oberwil-Lieli\, Schweiz;X-APPLE-RADIUS=100;X-T
 ITLE=qba Kultur + Begegnung\, Oberwil-Lieli:geo:0,0
END:VEVENT
BEGIN:VTIMEZONE
TZID:Europe/Zurich
X-LIC-LOCATION:Europe/Zurich
BEGIN:DAYLIGHT
DTSTART:20240331T030000
TZOFFSETFROM:+0100
TZOFFSETTO:+0200
TZNAME:CEST
END:DAYLIGHT
END:VTIMEZONE
END:VCALENDAR