BEGIN:VCALENDAR
VERSION:2.0
PRODID:-//wp-events-plugin.com//7.2.3.1//EN
TZID:Europe/Zurich
X-WR-TIMEZONE:Europe/Zurich
BEGIN:VEVENT
UID:21@qba.ch
DTSTART;TZID=Europe/Zurich:20230909T201500
DTEND;TZID=Europe/Zurich:20230909T221500
DTSTAMP:20230716T184901Z
URL:https://www.qba.ch/reservation/claudia-masika-2023/
SUMMARY:Claudia Masika
DESCRIPTION:Afro-Fusion\n\nSamstag\, 9. September 2023\, 20.15 Uhr\nEintrit
 t: Fr. 40.– \, Schüler/Studenten Fr. 20.-\n\n\n\nReservation von Eintri
 ttskarten:\n\nIhre Reservation wird von uns umgehend bestätigt.\nDie Kart
 en bleiben bis 10 Minuten vor Konzertbeginn an der Abendkasse reserviert.\
 nReservationen per Internet sind bis 24 Stunden vor dem Anlass möglich.\n
 \nAuch telefonische Reservation ist möglich: 079 279 12 33\, Susanne Port
 mann
ATTACH;FMTTYPE=image/jpeg:https://www.qba.ch/wp-content/uploads/2023/07/Fo
 toshooting-1.jpg
LOCATION:qba Kultur + Begegnung\, Oberwil-Lieli\, Aula\, Schulanlage Falter
 \, Schulhausstrasse 94\, 8966 Oberwil-Lieli\, Schweiz
X-APPLE-STRUCTURED-LOCATION;VALUE=URI;X-ADDRESS=Aula\, Schulanlage Falter\,
  Schulhausstrasse 94\, 8966 Oberwil-Lieli\, Schweiz;X-APPLE-RADIUS=100;X-T
 ITLE=qba Kultur + Begegnung\, Oberwil-Lieli:geo:0,0
END:VEVENT
BEGIN:VTIMEZONE
TZID:Europe/Zurich
X-LIC-LOCATION:Europe/Zurich
BEGIN:DAYLIGHT
DTSTART:20230326T030000
TZOFFSETFROM:+0100
TZOFFSETTO:+0200
TZNAME:CEST
END:DAYLIGHT
END:VTIMEZONE
END:VCALENDAR