BEGIN:VCALENDAR
VERSION:2.0
PRODID:-//wp-events-plugin.com//7.2.3.1//EN
TZID:Europe/Zurich
X-WR-TIMEZONE:Europe/Zurich
BEGIN:VEVENT
UID:31@qba.ch
DTSTART;TZID=Europe/Zurich:20241019T201500
DTEND;TZID=Europe/Zurich:20241019T223000
DTSTAMP:20241014T130928Z
URL:https://www.qba.ch/reservation/florian-ast-2024/
SUMMARY:Forian Ast - Ast A La Vista
DESCRIPTION:Mundart Pop\n\nSamstag\, 19. Oktober 2024\, 20.15 Uhr\nEintritt
 : Fr. 40.– \, Schüler/Studenten Fr. 20.-\n\nReservation von Eintrittska
 rten:\n\nIhre Reservation wird von uns umgehend bestätigt.\nDie Karten bl
 eiben bis 10 Minuten vor Konzertbeginn an der Abendkasse reserviert.\nRese
 rvationen per Internet sind bis 24 Stunden vor dem Anlass möglich.\n\nAuc
 h telefonische Reservation ist möglich: 079 279 12 33\, Susanne Portmann
ATTACH;FMTTYPE=image/jpeg:https://www.qba.ch/wp-content/uploads/2024/06/66
 3cb0b32e341-20240218-140645DG_FlorianAst_1507-scaled-1.jpg
LOCATION:qba Kultur + Begegnung\, Oberwil-Lieli\, Aula\, Schulanlage Falter
 \, Schulhausstrasse 94\, 8966 Oberwil-Lieli\, Schweiz
X-APPLE-STRUCTURED-LOCATION;VALUE=URI;X-ADDRESS=Aula\, Schulanlage Falter\,
  Schulhausstrasse 94\, 8966 Oberwil-Lieli\, Schweiz;X-APPLE-RADIUS=100;X-T
 ITLE=qba Kultur + Begegnung\, Oberwil-Lieli:geo:0,0
END:VEVENT
BEGIN:VTIMEZONE
TZID:Europe/Zurich
X-LIC-LOCATION:Europe/Zurich
BEGIN:DAYLIGHT
DTSTART:20240331T030000
TZOFFSETFROM:+0100
TZOFFSETTO:+0200
TZNAME:CEST
END:DAYLIGHT
END:VTIMEZONE
END:VCALENDAR