BEGIN:VCALENDAR
VERSION:2.0
PRODID:-//wp-events-plugin.com//7.2.3.1//EN
TZID:Europe/Zurich
X-WR-TIMEZONE:Europe/Zurich
BEGIN:VEVENT
UID:38@qba.ch
DTSTART;TZID=Europe/Zurich:20250906T201500
DTEND;TZID=Europe/Zurich:20250906T223000
DTSTAMP:20250619T135839Z
URL:https://www.qba.ch/reservation/froelein-da-capo-2025/
SUMMARY:Frölein Da Capo
DESCRIPTION:Musikkabarett\nSamstag\, 6. September 2025\nEintritt: Fr. 40.-\
 , Schüler/Studenten Fr. 20.-\n\nTüröffnung und Barbetrieb ab 19.15 Uhr\
 nReservation von Eintrittskarten:\nIhre Reservation wird von uns umgehend 
 bestätigt.\nDie Karten bleiben bis 10 Minuten vor Konzertbeginn an der Ab
 endkasse reserviert.\nReservationen per Internet sind bis 24 Stunden vor d
 em Anlass möglich.\n\nAuch telefonische Reservation ist möglich: 079 279
  12 33\, Susanne Portmann
ATTACH;FMTTYPE=image/jpeg:https://www.qba.ch/wp-content/uploads/2025/06/me
 dia_ein-frau-show-0001.jpg
LOCATION:qba Kultur + Begegnung\, Oberwil-Lieli\, Aula\, Schulanlage Falter
 \, Schulhausstrasse 94\, 8966 Oberwil-Lieli\, Schweiz
X-APPLE-STRUCTURED-LOCATION;VALUE=URI;X-ADDRESS=Aula\, Schulanlage Falter\,
  Schulhausstrasse 94\, 8966 Oberwil-Lieli\, Schweiz;X-APPLE-RADIUS=100;X-T
 ITLE=qba Kultur + Begegnung\, Oberwil-Lieli:geo:0,0
END:VEVENT
BEGIN:VTIMEZONE
TZID:Europe/Zurich
X-LIC-LOCATION:Europe/Zurich
BEGIN:DAYLIGHT
DTSTART:20250330T030000
TZOFFSETFROM:+0100
TZOFFSETTO:+0200
TZNAME:CEST
END:DAYLIGHT
END:VTIMEZONE
END:VCALENDAR