BEGIN:VCALENDAR
VERSION:2.0
PRODID:-//wp-events-plugin.com//7.2.3.1//EN
TZID:Europe/Zurich
X-WR-TIMEZONE:Europe/Zurich
BEGIN:VEVENT
UID:19@qba.ch
DTSTART;TZID=Europe/Zurich:20230422T201500
DTEND;TZID=Europe/Zurich:20230422T221500
DTSTAMP:20220807T171655Z
URL:https://www.qba.ch/reservation/jael-2023/
SUMMARY:Jaël Acoustic Trio
DESCRIPTION:Pop\n\nSamstag\, 22. April 2022\, 20.15 Uhr\nEintritt: Fr. 40.
 – \, Schüler/Studenten Fr. 20.-\n\n\n\nReservation von Eintrittskarten:
 \n\nIhre Reservation wird von uns umgehend bestätigt.\nDie Karten bleiben
  bis 10 Minuten vor Konzertbeginn an der Abendkasse reserviert.\nReservati
 onen per Internet sind bis 24 Stunden vor dem Anlass möglich.\n\nAuch tel
 efonische Reservation ist möglich: 079 279 12 33\, Susanne Portmann
LOCATION:qba Kultur + Begegnung\, Oberwil-Lieli\, Aula\, Schulanlage Falter
 \, Schulhausstrasse 94\, 8966 Oberwil-Lieli\, Schweiz
X-APPLE-STRUCTURED-LOCATION;VALUE=URI;X-ADDRESS=Aula\, Schulanlage Falter\,
  Schulhausstrasse 94\, 8966 Oberwil-Lieli\, Schweiz;X-APPLE-RADIUS=100;X-T
 ITLE=qba Kultur + Begegnung\, Oberwil-Lieli:geo:0,0
END:VEVENT
BEGIN:VTIMEZONE
TZID:Europe/Zurich
X-LIC-LOCATION:Europe/Zurich
BEGIN:DAYLIGHT
DTSTART:20230326T030000
TZOFFSETFROM:+0100
TZOFFSETTO:+0200
TZNAME:CEST
END:DAYLIGHT
END:VTIMEZONE
END:VCALENDAR