BEGIN:VCALENDAR
VERSION:2.0
PRODID:-//wp-events-plugin.com//7.2.3.1//EN
TZID:Europe/Zurich
X-WR-TIMEZONE:Europe/Zurich
BEGIN:VEVENT
UID:34@qba.ch
DTSTART;TZID=Europe/Zurich:20250105T171500
DTEND;TZID=Europe/Zurich:20250105T200000
DTSTAMP:20250103T092649Z
URL:https://www.qba.ch/reservation/lenzin-pasquier-2025/
SUMMARY:Peter Lenzin & Claire Pasquier
DESCRIPTION:Neujahrskonzert / No Absolutely Classical\n\nSonntag\, 5. Janua
 r 2025\, 17.15 Uhr\nEintritt: Fr. 40.– \, Schüler/Studenten Fr. 20.-\n\
 nReservation von Eintrittskarten:\n\nIhre Reservation wird von uns umgehen
 d bestätigt.\nDie Karten bleiben bis 10 Minuten vor Konzertbeginn an der 
 Abendkasse reserviert.\nReservationen per Internet sind bis 24 Stunden vor
  dem Anlass möglich.\n\nAuch telefonische Reservation ist möglich: 079 2
 79 12 33\, Susanne Portmann
ATTACH;FMTTYPE=image/jpeg:https://www.qba.ch/wp-content/uploads/2024/06/Cl
 aire-Pasquier-und-Peter-Lenzin.jpg
LOCATION:qba Kultur + Begegnung\, Oberwil-Lieli\, Aula\, Schulanlage Falter
 \, Schulhausstrasse 94\, 8966 Oberwil-Lieli\, Schweiz
X-APPLE-STRUCTURED-LOCATION;VALUE=URI;X-ADDRESS=Aula\, Schulanlage Falter\,
  Schulhausstrasse 94\, 8966 Oberwil-Lieli\, Schweiz;X-APPLE-RADIUS=100;X-T
 ITLE=qba Kultur + Begegnung\, Oberwil-Lieli:geo:0,0
END:VEVENT
BEGIN:VTIMEZONE
TZID:Europe/Zurich
X-LIC-LOCATION:Europe/Zurich
BEGIN:STANDARD
DTSTART:20241027T020000
TZOFFSETFROM:+0200
TZOFFSETTO:+0100
TZNAME:CET
END:STANDARD
END:VTIMEZONE
END:VCALENDAR