BEGIN:VCALENDAR
VERSION:2.0
PRODID:-//wp-events-plugin.com//7.2.3.1//EN
TZID:Europe/Zurich
X-WR-TIMEZONE:Europe/Zurich
BEGIN:VEVENT
UID:23@qba.ch
DTSTART;TZID=Europe/Zurich:20231125T201500
DTEND;TZID=Europe/Zurich:20231125T221500
DTSTAMP:20230716T204047Z
URL:https://www.qba.ch/reservation/lucky-wuethrich-2023/
SUMMARY:Lucky Wüthrich
DESCRIPTION:Blues\n\nSamstag\, 25. November 2023\, 20.15 Uhr\nEintritt: Fr.
  40.– \, Schüler/Studenten Fr. 20.-\n\nReservation von Eintrittskarten:
 \n\nIhre Reservation wird von uns umgehend bestätigt.\nDie Karten bleiben
  bis 10 Minuten vor Konzertbeginn an der Abendkasse reserviert.\nReservati
 onen per Internet sind bis 24 Stunden vor dem Anlass möglich.\n\nAuch tel
 efonische Reservation ist möglich: 079 279 12 33\, Susanne Portmann
ATTACH;FMTTYPE=image/jpeg:https://www.qba.ch/wp-content/uploads/2023/07/20
 230326_175830487_iOS-2.jpg
LOCATION:qba Kultur + Begegnung\, Oberwil-Lieli\, Aula\, Schulanlage Falter
 \, Schulhausstrasse 94\, 8966 Oberwil-Lieli\, Schweiz
X-APPLE-STRUCTURED-LOCATION;VALUE=URI;X-ADDRESS=Aula\, Schulanlage Falter\,
  Schulhausstrasse 94\, 8966 Oberwil-Lieli\, Schweiz;X-APPLE-RADIUS=100;X-T
 ITLE=qba Kultur + Begegnung\, Oberwil-Lieli:geo:0,0
END:VEVENT
BEGIN:VTIMEZONE
TZID:Europe/Zurich
X-LIC-LOCATION:Europe/Zurich
BEGIN:STANDARD
DTSTART:20231029T020000
TZOFFSETFROM:+0200
TZOFFSETTO:+0100
TZNAME:CET
END:STANDARD
END:VTIMEZONE
END:VCALENDAR