BEGIN:VCALENDAR
VERSION:2.0
PRODID:-//wp-events-plugin.com//7.2.3.1//EN
TZID:Europe/Zurich
X-WR-TIMEZONE:Europe/Zurich
BEGIN:VEVENT
UID:33@qba.ch
DTSTART;TZID=Europe/Zurich:20241123T201500
DTEND;TZID=Europe/Zurich:20241123T223000
DTSTAMP:20241122T183111Z
URL:https://www.qba.ch/reservation/miriam-portmann-2024/
SUMMARY:Operetten-Gala
DESCRIPTION:\n 	Miriam Portmann (Sopran)\n 	Raimund Wiederkehr (Tenor)\n 	M
 onika Nagy (Flügel)\n\nSamstag\, 23. November 2024\, 20.15 Uhr\nEintritt:
  Fr. 40.– \, Schüler/Studenten Fr. 20.-\n\nReservation von Eintrittskar
 ten:\n\nIhre Reservation wird von uns umgehend bestätigt.\nDie Karten ble
 iben bis 10 Minuten vor Konzertbeginn an der Abendkasse reserviert.\nReser
 vationen per Internet sind bis 24 Stunden vor dem Anlass möglich.\n\nAuch
  telefonische Reservation ist möglich: 079 279 12 33\, Susanne Portmann
ATTACH;FMTTYPE=image/jpeg:https://www.qba.ch/wp-content/uploads/2024/11/Po
 rtmann-Kombi-3-scaled.jpg
LOCATION:qba Kultur + Begegnung\, Oberwil-Lieli\, Aula\, Schulanlage Falter
 \, Schulhausstrasse 94\, 8966 Oberwil-Lieli\, Schweiz
X-APPLE-STRUCTURED-LOCATION;VALUE=URI;X-ADDRESS=Aula\, Schulanlage Falter\,
  Schulhausstrasse 94\, 8966 Oberwil-Lieli\, Schweiz;X-APPLE-RADIUS=100;X-T
 ITLE=qba Kultur + Begegnung\, Oberwil-Lieli:geo:0,0
END:VEVENT
BEGIN:VTIMEZONE
TZID:Europe/Zurich
X-LIC-LOCATION:Europe/Zurich
BEGIN:STANDARD
DTSTART:20241027T020000
TZOFFSETFROM:+0200
TZOFFSETTO:+0100
TZNAME:CET
END:STANDARD
END:VTIMEZONE
END:VCALENDAR