BEGIN:VCALENDAR
VERSION:2.0
PRODID:-//wp-events-plugin.com//7.2.3.1//EN
TZID:Europe/Zurich
X-WR-TIMEZONE:Europe/Zurich
BEGIN:VEVENT
UID:14@qba.ch
DTSTART;TZID=Europe/Zurich:20221119T201500
DTEND;TZID=Europe/Zurich:20221119T221500
DTSTAMP:20221106T100755Z
URL:https://www.qba.ch/reservation/senn-bernet-2022/
SUMMARY:Nicolas Senn & Elias Bernet
DESCRIPTION:Hack'n'Roll\n\nSamstag\, 19. November 2022\, 20.15 Uhr\nEintrit
 t: Fr. 40.– \, Schüler/Studenten Fr. 20.-\n\n\n\nReservation von Eintri
 ttskarten:\n\nIhre Reservation wird von uns umgehend bestätigt.\nDie Kart
 en bleiben bis 10 Minuten vor Konzertbeginn an der Abendkasse reserviert.\
 nReservationen per Internet sind bis 24 Stunden vor dem Anlass möglich.\n
 \nAuch telefonische Reservation ist möglich: 079 279 12 33\, Susanne Port
 mann
LOCATION:qba Kultur + Begegnung\, Oberwil-Lieli\, Aula\, Schulanlage Falter
 \, Schulhausstrasse 94\, 8966 Oberwil-Lieli\, Schweiz
X-APPLE-STRUCTURED-LOCATION;VALUE=URI;X-ADDRESS=Aula\, Schulanlage Falter\,
  Schulhausstrasse 94\, 8966 Oberwil-Lieli\, Schweiz;X-APPLE-RADIUS=100;X-T
 ITLE=qba Kultur + Begegnung\, Oberwil-Lieli:geo:0,0
END:VEVENT
BEGIN:VTIMEZONE
TZID:Europe/Zurich
X-LIC-LOCATION:Europe/Zurich
BEGIN:STANDARD
DTSTART:20221030T020000
TZOFFSETFROM:+0200
TZOFFSETTO:+0100
TZNAME:CET
END:STANDARD
END:VTIMEZONE
END:VCALENDAR